BEGIN:VCALENDAR
VERSION:2.0
PRODID:-// - ECPv6.15.20//NONSGML v1.0//EN
CALSCALE:GREGORIAN
METHOD:PUBLISH
X-ORIGINAL-URL:https://empresariascanariassureste.es
X-WR-CALDESC:Eventos para 
REFRESH-INTERVAL;VALUE=DURATION:PT1H
X-Robots-Tag:noindex
X-PUBLISHED-TTL:PT1H
BEGIN:VTIMEZONE
TZID:UTC
BEGIN:STANDARD
TZOFFSETFROM:+0000
TZOFFSETTO:+0000
TZNAME:UTC
DTSTART:20240101T000000
END:STANDARD
END:VTIMEZONE
BEGIN:VEVENT
DTSTART;TZID=UTC:20250227T080000
DTEND;TZID=UTC:20250227T083000
DTSTAMP:20260426T025538
CREATED:20250211T172714Z
LAST-MODIFIED:20250211T181831Z
UID:589-1740643200-1740645000@empresariascanariassureste.es
SUMMARY:Formación interna SOLO para socias
DESCRIPTION:Formación interna para socias de EMCA. «ChatGPT para ayudarte en tu negocio» impartida por la compañera Hasna Bousnina. \n\n\n\n\n\n\n\n\n\n\n\n\n\n\n\n\n\n\nBENEFICIOS INTERNOS DE ESTAR EN LA ASOCIACIÓN\n\n\n\n\nEres una mujer empresaria del sureste de Gran Canaria y quieres desarrollar tu negocio\, pero te sientes sola y aislada. No sabes a quién acudir para pedir consejo o ayuda. \n\n\n\nSi es así\, EMCA es la asociación que necesitas. Somos una comunidad de mujeres empresarias que nos apoyamos mutuamente para alcanzar nuestros objetivos. \n\n\n\n\nFORMULARIO DE SOLICITUD DE INSCRIPCIÓN
URL:https://empresariascanariassureste.es/evento/formacion-interna-solo-para-socias-3/
CATEGORIES:FORMACIÓN
ATTACH;FMTTYPE=image/png:https://empresariascanariassureste.es/wp-content/uploads/Cartel-Hasna.png
END:VEVENT
END:VCALENDAR