BEGIN:VCALENDAR
VERSION:2.0
PRODID:-// - ECPv6.15.20//NONSGML v1.0//EN
CALSCALE:GREGORIAN
METHOD:PUBLISH
X-ORIGINAL-URL:https://empresariascanariassureste.es
X-WR-CALDESC:Eventos para 
REFRESH-INTERVAL;VALUE=DURATION:PT1H
X-Robots-Tag:noindex
X-PUBLISHED-TTL:PT1H
BEGIN:VTIMEZONE
TZID:UTC
BEGIN:STANDARD
TZOFFSETFROM:+0000
TZOFFSETTO:+0000
TZNAME:UTC
DTSTART:20250101T000000
END:STANDARD
END:VTIMEZONE
BEGIN:VEVENT
DTSTART;TZID=UTC:20260423T190000
DTEND;TZID=UTC:20260423T210000
DTSTAMP:20260421T104527
CREATED:20260325T222605Z
LAST-MODIFIED:20260420T154758Z
UID:1874-1776970800-1776978000@empresariascanariassureste.es
SUMMARY:Sesión 1/9: De la IE a la IA (Programa completo): Un recorrido práctico para transformar tu mentalidad y tu negocio
DESCRIPTION:En EMCA sabemos que para dominar la tecnología\, primero debemos liderar nuestra propia mente. Por eso lanzamos nuestro nuevo programa formativo: un itinerario diseñado para empresarios y emprendedores que quieren dar el salto a la Inteligencia Artificial con seguridad\, foco y claridad. \n\n\n\n¿Sientes que la IA es un mundo inalcanzable o te abruma no saber por dónde empezar? Este programa propone una secuencia pedagógica real: primero trabajamos la mentalidad («abrir la cabeza») con Inteligencia Emocional\, para luego introducir las herramientas de Inteligencia Artificial que potenciarán tu productividad. \n\n\n\n¿Qué vamos a aprender?\n\n\n\nEl programa se divide en sesiones dinámicas y prácticas: \n\n\n\n\nInteligencia Emocional (con Fayna): Foco sin agotamiento\, gestión de la energía y mentalidad para una productividad real.\n\n\n\nInteligencia Artificial (con Virginia): Uso práctico de ChatGPT\, Gemini\, automatizaciones\, Canva IA y atención al cliente.\n\n\n\n\nDatos clave:\n\n\n\n\nFechas: Del 23 de abril al 21 de mayo (Martes y Jueves).\n\n\n\nHorario: 19:00 a 21:00 horas.\n\n\n\nLugar: La Casa del Caminero.\n\n\n\nRequisito: Es imprescindible traer ordenador portátil.\n\n\n\n\nCondiciones de inscripción:\n\n\n\nSocias EMCA y empresarios del Municipio: SUBVENCIONADO \n\n\n\nResto de colectivos o municipios: 90 €. \n\n\n\nNuevas socias: Puedes acceder inscribiéndote con la cuota anual de la asociación. \n\n\n\n\n¡Reserva tu plaza!\n\n\n\n\nNota importante: Este no es un ciclo de charlas independientes. Es un programa formativo continuo con una secuencia pedagógica real
URL:https://empresariascanariassureste.es/evento/de-la-ie-a-la-ia-un-recorrido-practico-para-transformar-tu-mentalidad-y-tu-negocio/
CATEGORIES:FORMACIÓN
ATTACH;FMTTYPE=image/jpeg:https://empresariascanariassureste.es/wp-content/uploads/Copia-de-IMPULSANDO-NEGOCIOS-1.jpg
END:VEVENT
END:VCALENDAR