BEGIN:VCALENDAR
VERSION:2.0
PRODID:-// - ECPv6.15.20//NONSGML v1.0//EN
CALSCALE:GREGORIAN
METHOD:PUBLISH
X-ORIGINAL-URL:https://empresariascanariassureste.es
X-WR-CALDESC:Eventos para 
REFRESH-INTERVAL;VALUE=DURATION:PT1H
X-Robots-Tag:noindex
X-PUBLISHED-TTL:PT1H
BEGIN:VTIMEZONE
TZID:UTC
BEGIN:STANDARD
TZOFFSETFROM:+0000
TZOFFSETTO:+0000
TZNAME:UTC
DTSTART:20250101T000000
END:STANDARD
END:VTIMEZONE
BEGIN:VEVENT
DTSTART;TZID=UTC:20260423T070000
DTEND;TZID=UTC:20260423T210000
DTSTAMP:20260420T004726
CREATED:20260325T222605Z
LAST-MODIFIED:20260416T121922Z
UID:1874-1776927600-1776978000@empresariascanariassureste.es
SUMMARY:Sesión 1/9: De la IE a la IA (Programa completo): Un recorrido práctico para transformar tu mentalidad y tu negocio
DESCRIPTION:En EMCA sabemos que para dominar la tecnología\, primero debemos liderar nuestra propia mente. Por eso lanzamos nuestro nuevo programa formativo: un itinerario diseñado para empresarios y emprendedores que quieren dar el salto a la Inteligencia Artificial con seguridad\, foco y claridad. \n\n\n\n¿Sientes que la IA es un mundo inalcanzable o te abruma no saber por dónde empezar? Este programa propone una secuencia pedagógica real: primero trabajamos la mentalidad («abrir la cabeza») con Inteligencia Emocional\, para luego introducir las herramientas de Inteligencia Artificial que potenciarán tu productividad. \n\n\n\n¿Qué vamos a aprender?\n\n\n\nEl programa se divide en sesiones dinámicas y prácticas: \n\n\n\n\nInteligencia Emocional (con Fayna): Foco sin agotamiento\, gestión de la energía y mentalidad para una productividad real.\n\n\n\nInteligencia Artificial (con Virginia): Uso práctico de ChatGPT\, Gemini\, automatizaciones\, Canva IA y atención al cliente.\n\n\n\n\nDatos clave:\n\n\n\n\nFechas: Del 23 de abril al 21 de mayo (Martes y Jueves).\n\n\n\nHorario: 19:00 a 21:00 horas.\n\n\n\nLugar: La Casa del Caminero.\n\n\n\nRequisito: Es imprescindible traer ordenador portátil.\n\n\n\n\nCondiciones de inscripción:\n\n\n\nSocias EMCA y empresarios del Municipio: SUBVENCIONADO \n\n\n\nResto de colectivos o municipios: 90 €. \n\n\n\nNuevas socias: Puedes acceder inscribiéndote con la cuota anual de la asociación. \n\n\n\n\n¡Reserva tu plaza!\n\n\n\n\nNota importante: Este no es un ciclo de charlas independientes. Es un programa formativo continuo con una secuencia pedagógica real
URL:https://empresariascanariassureste.es/evento/de-la-ie-a-la-ia-un-recorrido-practico-para-transformar-tu-mentalidad-y-tu-negocio/
CATEGORIES:FORMACIÓN
ATTACH;FMTTYPE=image/jpeg:https://empresariascanariassureste.es/wp-content/uploads/Copia-de-IMPULSANDO-NEGOCIOS-1.jpg
END:VEVENT
BEGIN:VEVENT
DTSTART;TZID=UTC:20260428T190000
DTEND;TZID=UTC:20260428T210000
DTSTAMP:20260420T004726
CREATED:20260325T222902Z
LAST-MODIFIED:20260416T121933Z
UID:1876-1777402800-1777410000@empresariascanariassureste.es
SUMMARY:Sesión 2/9: De la IE a la IA (Programa completo): Un recorrido práctico para transformar tu mentalidad y tu negocio
DESCRIPTION:En EMCA sabemos que para dominar la tecnología\, primero debemos liderar nuestra propia mente. Por eso lanzamos nuestro nuevo programa formativo: un itinerario diseñado para empresarios y emprendedores que quieren dar el salto a la Inteligencia Artificial con seguridad\, foco y claridad. \n\n\n\n¿Sientes que la IA es un mundo inalcanzable o te abruma no saber por dónde empezar? Este programa propone una secuencia pedagógica real: primero trabajamos la mentalidad («abrir la cabeza») con Inteligencia Emocional\, para luego introducir las herramientas de Inteligencia Artificial que potenciarán tu productividad. \n\n\n\n¿Qué vamos a aprender?\n\n\n\nEl programa se divide en sesiones dinámicas y prácticas: \n\n\n\n\nInteligencia Emocional (con Fayna): Foco sin agotamiento\, gestión de la energía y mentalidad para una productividad real.\n\n\n\nInteligencia Artificial (con Virginia): Uso práctico de ChatGPT\, Gemini\, automatizaciones\, Canva IA y atención al cliente.\n\n\n\n\nDatos clave:\n\n\n\n\nFechas: Del 23 de abril al 21 de mayo (Martes y Jueves).\n\n\n\nHorario: 19:00 a 21:00 horas.\n\n\n\nLugar: La Casa del Caminero.\n\n\n\nRequisito: Es imprescindible traer ordenador portátil.\n\n\n\n\nCondiciones de inscripción:\n\n\n\nSocias EMCA y empresarios del Municipio: SUBVENCIONADO \n\n\n\nResto de colectivos o municipios: 90 €. \n\n\n\nNuevas socias: Puedes acceder inscribiéndote con la cuota anual de la asociación. \n\n\n\n\n¡Reserva tu plaza!\n\n\n\n\nNota importante: Este no es un ciclo de charlas independientes. Es un programa formativo continuo con una secuencia pedagógica real.
URL:https://empresariascanariassureste.es/evento/de-la-ie-a-la-ia-un-recorrido-practico-para-transformar-tu-mentalidad-y-tu-negocio-2/
CATEGORIES:FORMACIÓN
ATTACH;FMTTYPE=image/jpeg:https://empresariascanariassureste.es/wp-content/uploads/Copia-de-IMPULSANDO-NEGOCIOS.jpg
END:VEVENT
BEGIN:VEVENT
DTSTART;TZID=UTC:20260430T190000
DTEND;TZID=UTC:20260430T210000
DTSTAMP:20260420T004726
CREATED:20260325T223220Z
LAST-MODIFIED:20260416T121949Z
UID:1879-1777575600-1777582800@empresariascanariassureste.es
SUMMARY:Sesión 3/9: De la IE a la IA (Programa completo): Un recorrido práctico para transformar tu mentalidad y tu negocio
DESCRIPTION:En EMCA sabemos que para dominar la tecnología\, primero debemos liderar nuestra propia mente. Por eso lanzamos nuestro nuevo programa formativo: un itinerario diseñado para empresarios y emprendedores que quieren dar el salto a la Inteligencia Artificial con seguridad\, foco y claridad. \n\n\n\n¿Sientes que la IA es un mundo inalcanzable o te abruma no saber por dónde empezar? Este programa propone una secuencia pedagógica real: primero trabajamos la mentalidad («abrir la cabeza») con Inteligencia Emocional\, para luego introducir las herramientas de Inteligencia Artificial que potenciarán tu productividad. \n\n\n\n¿Qué vamos a aprender?\n\n\n\nEl programa se divide en sesiones dinámicas y prácticas: \n\n\n\n\nInteligencia Emocional (con Fayna): Foco sin agotamiento\, gestión de la energía y mentalidad para una productividad real.\n\n\n\nInteligencia Artificial (con Virginia): Uso práctico de ChatGPT\, Gemini\, automatizaciones\, Canva IA y atención al cliente.\n\n\n\n\nDatos clave:\n\n\n\n\nFechas: Del 23 de abril al 21 de mayo (Martes y Jueves).\n\n\n\nHorario: 19:00 a 21:00 horas.\n\n\n\nLugar: La Casa del Caminero.\n\n\n\nRequisito: Es imprescindible traer ordenador portátil.\n\n\n\n\nCondiciones de inscripción:\n\n\n\nSocias EMCA y empresarios del Municipio: SUBVENCIONADO \n\n\n\nResto de colectivos o municipios: 90 €. \n\n\n\nNuevas socias: Puedes acceder inscribiéndote con la cuota anual de la asociación. \n\n\n\n\n¡Reserva tu plaza!\n\n\n\n\nNota importante: Este no es un ciclo de charlas independientes. Es un programa formativo continuo con una secuencia pedagógica real.
URL:https://empresariascanariassureste.es/evento/de-la-ie-a-la-ia-un-recorrido-practico-para-transformar-tu-mentalidad-y-tu-negocio-3/
CATEGORIES:FORMACIÓN
ATTACH;FMTTYPE=image/jpeg:https://empresariascanariassureste.es/wp-content/uploads/Copia-de-IMPULSANDO-NEGOCIOS.jpg
END:VEVENT
BEGIN:VEVENT
DTSTART;TZID=UTC:20260505T190000
DTEND;TZID=UTC:20260505T210000
DTSTAMP:20260420T004726
CREATED:20260325T223403Z
LAST-MODIFIED:20260416T122001Z
UID:1881-1778007600-1778014800@empresariascanariassureste.es
SUMMARY:Sesión 4/9: De la IE a la IA (Programa completo): Un recorrido práctico para transformar tu mentalidad y tu negocio
DESCRIPTION:En EMCA sabemos que para dominar la tecnología\, primero debemos liderar nuestra propia mente. Por eso lanzamos nuestro nuevo programa formativo: un itinerario diseñado para empresarios y emprendedores que quieren dar el salto a la Inteligencia Artificial con seguridad\, foco y claridad. \n\n\n\n¿Sientes que la IA es un mundo inalcanzable o te abruma no saber por dónde empezar? Este programa propone una secuencia pedagógica real: primero trabajamos la mentalidad («abrir la cabeza») con Inteligencia Emocional\, para luego introducir las herramientas de Inteligencia Artificial que potenciarán tu productividad. \n\n\n\n¿Qué vamos a aprender?\n\n\n\nEl programa se divide en sesiones dinámicas y prácticas: \n\n\n\n\nInteligencia Emocional (con Fayna): Foco sin agotamiento\, gestión de la energía y mentalidad para una productividad real.\n\n\n\nInteligencia Artificial (con Virginia): Uso práctico de ChatGPT\, Gemini\, automatizaciones\, Canva IA y atención al cliente.\n\n\n\n\nDatos clave:\n\n\n\n\nFechas: Del 23 de abril al 21 de mayo (Martes y Jueves).\n\n\n\nHorario: 19:00 a 21:00 horas.\n\n\n\nLugar: La Casa del Caminero.\n\n\n\nRequisito: Es imprescindible traer ordenador portátil.\n\n\n\n\nCondiciones de inscripción:\n\n\n\nSocias EMCA y empresarios del Municipio: SUBVENCIONADO \n\n\n\nResto de colectivos o municipios: 90 €. \n\n\n\nNuevas socias: Puedes acceder inscribiéndote con la cuota anual de la asociación. \n\n\n\n\n¡Reserva tu plaza!
URL:https://empresariascanariassureste.es/evento/de-la-ie-a-la-ia-un-recorrido-practico-para-transformar-tu-mentalidad-y-tu-negocio-4/
CATEGORIES:FORMACIÓN
ATTACH;FMTTYPE=image/jpeg:https://empresariascanariassureste.es/wp-content/uploads/Copia-de-IMPULSANDO-NEGOCIOS-1.jpg
END:VEVENT
BEGIN:VEVENT
DTSTART;TZID=UTC:20260507T190000
DTEND;TZID=UTC:20260507T210000
DTSTAMP:20260420T004726
CREATED:20260325T223554Z
LAST-MODIFIED:20260416T122015Z
UID:1883-1778180400-1778187600@empresariascanariassureste.es
SUMMARY:Sesión 5/9: De la IE a la IA (Programa completo): Un recorrido práctico para transformar tu mentalidad y tu negocio
DESCRIPTION:En EMCA sabemos que para dominar la tecnología\, primero debemos liderar nuestra propia mente. Por eso lanzamos nuestro nuevo programa formativo: un itinerario diseñado para empresarios y emprendedores que quieren dar el salto a la Inteligencia Artificial con seguridad\, foco y claridad. \n\n\n\n¿Sientes que la IA es un mundo inalcanzable o te abruma no saber por dónde empezar? Este programa propone una secuencia pedagógica real: primero trabajamos la mentalidad («abrir la cabeza») con Inteligencia Emocional\, para luego introducir las herramientas de Inteligencia Artificial que potenciarán tu productividad. \n\n\n\n¿Qué vamos a aprender?\n\n\n\nEl programa se divide en sesiones dinámicas y prácticas: \n\n\n\n\nInteligencia Emocional (con Fayna): Foco sin agotamiento\, gestión de la energía y mentalidad para una productividad real.\n\n\n\nInteligencia Artificial (con Virginia): Uso práctico de ChatGPT\, Gemini\, automatizaciones\, Canva IA y atención al cliente.\n\n\n\n\nDatos clave:\n\n\n\n\nFechas: Del 23 de abril al 21 de mayo (Martes y Jueves).\n\n\n\nHorario: 19:00 a 21:00 horas.\n\n\n\nLugar: La Casa del Caminero.\n\n\n\nRequisito: Es imprescindible traer ordenador portátil.\n\n\n\n\nCondiciones de inscripción:\n\n\n\nSocias EMCA y empresarios del Municipio: SUBVENCIONADO \n\n\n\nResto de colectivos o municipios: 90 €. \n\n\n\nNuevas socias: Puedes acceder inscribiéndote con la cuota anual de la asociación. \n\n\n\n\n¡Reserva tu plaza!\n\n\n\n\nNota importante: Este no es un ciclo de charlas independientes. Es un programa formativo continuo con una secuencia pedagógica real.
URL:https://empresariascanariassureste.es/evento/de-la-ie-a-la-ia-un-recorrido-practico-para-transformar-tu-mentalidad-y-tu-negocio-5/
CATEGORIES:FORMACIÓN
ATTACH;FMTTYPE=image/jpeg:https://empresariascanariassureste.es/wp-content/uploads/Copia-de-IMPULSANDO-NEGOCIOS.jpg
END:VEVENT
BEGIN:VEVENT
DTSTART;TZID=UTC:20260512T190000
DTEND;TZID=UTC:20260512T210000
DTSTAMP:20260420T004726
CREATED:20260325T223754Z
LAST-MODIFIED:20260416T122027Z
UID:1885-1778612400-1778619600@empresariascanariassureste.es
SUMMARY:Sesión 6/9: De la IE a la IA (Programa completo): Un recorrido práctico para transformar tu mentalidad y tu negocio
DESCRIPTION:En EMCA sabemos que para dominar la tecnología\, primero debemos liderar nuestra propia mente. Por eso lanzamos nuestro nuevo programa formativo: un itinerario diseñado para empresarios y emprendedores que quieren dar el salto a la Inteligencia Artificial con seguridad\, foco y claridad. \n\n\n\n¿Sientes que la IA es un mundo inalcanzable o te abruma no saber por dónde empezar? Este programa propone una secuencia pedagógica real: primero trabajamos la mentalidad («abrir la cabeza») con Inteligencia Emocional\, para luego introducir las herramientas de Inteligencia Artificial que potenciarán tu productividad. \n\n\n\n¿Qué vamos a aprender?\n\n\n\nEl programa se divide en sesiones dinámicas y prácticas: \n\n\n\n\nInteligencia Emocional (con Fayna): Foco sin agotamiento\, gestión de la energía y mentalidad para una productividad real.\n\n\n\nInteligencia Artificial (con Virginia): Uso práctico de ChatGPT\, Gemini\, automatizaciones\, Canva IA y atención al cliente.\n\n\n\n\nDatos clave:\n\n\n\n\nFechas: Del 23 de abril al 21 de mayo (Martes y Jueves).\n\n\n\nHorario: 19:00 a 21:00 horas.\n\n\n\nLugar: La Casa del Caminero.\n\n\n\nRequisito: Es imprescindible traer ordenador portátil.\n\n\n\n\nCondiciones de inscripción:\n\n\n\nSocias EMCA y empresarios del Municipio: SUBVENCIONADO \n\n\n\nResto de colectivos o municipios: 90 €. \n\n\n\nNuevas socias: Puedes acceder inscribiéndote con la cuota anual de la asociación. \n\n\n\n\n¡Reserva tu plaza!\n\n\n\n\nNota importante: Este no es un ciclo de charlas independientes. Es un programa formativo continuo con una secuencia pedagógica real.
URL:https://empresariascanariassureste.es/evento/de-la-ie-a-la-ia-un-recorrido-practico-para-transformar-tu-mentalidad-y-tu-negocio-6/
CATEGORIES:FORMACIÓN
ATTACH;FMTTYPE=image/jpeg:https://empresariascanariassureste.es/wp-content/uploads/Copia-de-IMPULSANDO-NEGOCIOS.jpg
END:VEVENT
BEGIN:VEVENT
DTSTART;TZID=UTC:20260514T190000
DTEND;TZID=UTC:20260514T210000
DTSTAMP:20260420T004726
CREATED:20260325T223934Z
LAST-MODIFIED:20260416T122040Z
UID:1887-1778785200-1778792400@empresariascanariassureste.es
SUMMARY:Sesión 7/9: De la IE a la IA (Programa completo): Un recorrido práctico para transformar tu mentalidad y tu negocio
DESCRIPTION:En EMCA sabemos que para dominar la tecnología\, primero debemos liderar nuestra propia mente. Por eso lanzamos nuestro nuevo programa formativo: un itinerario diseñado para empresarios y emprendedores que quieren dar el salto a la Inteligencia Artificial con seguridad\, foco y claridad. \n\n\n\n¿Sientes que la IA es un mundo inalcanzable o te abruma no saber por dónde empezar? Este programa propone una secuencia pedagógica real: primero trabajamos la mentalidad («abrir la cabeza») con Inteligencia Emocional\, para luego introducir las herramientas de Inteligencia Artificial que potenciarán tu productividad. \n\n\n\n¿Qué vamos a aprender?\n\n\n\nEl programa se divide en sesiones dinámicas y prácticas: \n\n\n\n\nInteligencia Emocional (con Fayna): Foco sin agotamiento\, gestión de la energía y mentalidad para una productividad real.\n\n\n\nInteligencia Artificial (con Virginia): Uso práctico de ChatGPT\, Gemini\, automatizaciones\, Canva IA y atención al cliente.\n\n\n\n\nDatos clave:\n\n\n\n\nFechas: Del 23 de abril al 21 de mayo (Martes y Jueves).\n\n\n\nHorario: 19:00 a 21:00 horas.\n\n\n\nLugar: La Casa del Caminero.\n\n\n\nRequisito: Es imprescindible traer ordenador portátil.\n\n\n\n\nCondiciones de inscripción:\n\n\n\nSocias EMCA y empresarios del Municipio: SUBVENCIONADO \n\n\n\nResto de colectivos o municipios: 90 €. \n\n\n\nNuevas socias: Puedes acceder inscribiéndote con la cuota anual de la asociación. \n\n\n\n\n¡Reserva tu plaza!\n\n\n\n\nNota importante: Este no es un ciclo de charlas independientes. Es un programa formativo continuo con una secuencia pedagógica real.
URL:https://empresariascanariassureste.es/evento/de-la-ie-a-la-ia-un-recorrido-practico-para-transformar-tu-mentalidad-y-tu-negocio-7/
CATEGORIES:FORMACIÓN
ATTACH;FMTTYPE=image/jpeg:https://empresariascanariassureste.es/wp-content/uploads/Copia-de-IMPULSANDO-NEGOCIOS-1.jpg
END:VEVENT
BEGIN:VEVENT
DTSTART;TZID=UTC:20260519T190000
DTEND;TZID=UTC:20260519T210000
DTSTAMP:20260420T004726
CREATED:20260325T224226Z
LAST-MODIFIED:20260416T122051Z
UID:1889-1779217200-1779224400@empresariascanariassureste.es
SUMMARY:Sesión 8/9: De la IE a la IA (Programa completo) Un recorrido práctico para transformar tu mentalidad y tu negocio
DESCRIPTION:En EMCA sabemos que para dominar la tecnología\, primero debemos liderar nuestra propia mente. Por eso lanzamos nuestro nuevo programa formativo: un itinerario diseñado para empresarios y emprendedores que quieren dar el salto a la Inteligencia Artificial con seguridad\, foco y claridad. \n\n\n\n¿Sientes que la IA es un mundo inalcanzable o te abruma no saber por dónde empezar? Este programa propone una secuencia pedagógica real: primero trabajamos la mentalidad («abrir la cabeza») con Inteligencia Emocional\, para luego introducir las herramientas de Inteligencia Artificial que potenciarán tu productividad. \n\n\n\n¿Qué vamos a aprender?\n\n\n\nEl programa se divide en sesiones dinámicas y prácticas: \n\n\n\n\nInteligencia Emocional (con Fayna): Foco sin agotamiento\, gestión de la energía y mentalidad para una productividad real.\n\n\n\nInteligencia Artificial (con Virginia): Uso práctico de ChatGPT\, Gemini\, automatizaciones\, Canva IA y atención al cliente.\n\n\n\n\nDatos clave:\n\n\n\n\nFechas: Del 23 de abril al 21 de mayo (Martes y Jueves).\n\n\n\nHorario: 19:00 a 21:00 horas.\n\n\n\nLugar: La Casa del Caminero.\n\n\n\nRequisito: Es imprescindible traer ordenador portátil.\n\n\n\n\nCondiciones de inscripción:\n\n\n\nSocias EMCA y empresarios del Municipio: SUBVENCIONADO \n\n\n\nResto de colectivos o municipios: 90 €. \n\n\n\nNuevas socias: Puedes acceder inscribiéndote con la cuota anual de la asociación. \n\n\n\n\n¡Reserva tu plaza!\n\n\n\n\nNota importante: Este no es un ciclo de charlas independientes. Es un programa formativo continuo con una secuencia pedagógica real
URL:https://empresariascanariassureste.es/evento/de-la-ie-a-la-ia-un-recorrido-practico-para-transformar-tu-mentalidad-y-tu-negocio-8/
CATEGORIES:FORMACIÓN
ATTACH;FMTTYPE=image/jpeg:https://empresariascanariassureste.es/wp-content/uploads/Copia-de-IMPULSANDO-NEGOCIOS.jpg
END:VEVENT
BEGIN:VEVENT
DTSTART;TZID=UTC:20260521T190000
DTEND;TZID=UTC:20260521T210000
DTSTAMP:20260420T004726
CREATED:20260416T122426Z
LAST-MODIFIED:20260416T122506Z
UID:1954-1779390000-1779397200@empresariascanariassureste.es
SUMMARY:Sesión 9/9: De la IE a la IA (Programa completo) Un recorrido práctico para transformar tu mentalidad y tu negocio
DESCRIPTION:En EMCA sabemos que para dominar la tecnología\, primero debemos liderar nuestra propia mente. Por eso lanzamos nuestro nuevo programa formativo: un itinerario diseñado para empresarios y emprendedores que quieren dar el salto a la Inteligencia Artificial con seguridad\, foco y claridad. \n\n\n\n¿Sientes que la IA es un mundo inalcanzable o te abruma no saber por dónde empezar? Este programa propone una secuencia pedagógica real: primero trabajamos la mentalidad («abrir la cabeza») con Inteligencia Emocional\, para luego introducir las herramientas de Inteligencia Artificial que potenciarán tu productividad. \n\n\n\n¿Qué vamos a aprender?\n\n\n\nEl programa se divide en sesiones dinámicas y prácticas: \n\n\n\n\nInteligencia Emocional (con Fayna): Foco sin agotamiento\, gestión de la energía y mentalidad para una productividad real.\n\n\n\nInteligencia Artificial (con Virginia): Uso práctico de ChatGPT\, Gemini\, automatizaciones\, Canva IA y atención al cliente.\n\n\n\n\nDatos clave:\n\n\n\n\nFechas: Del 23 de abril al 21 de mayo (Martes y Jueves).\n\n\n\nHorario: 19:00 a 21:00 horas.\n\n\n\nLugar: La Casa del Caminero.\n\n\n\nRequisito: Es imprescindible traer ordenador portátil.\n\n\n\n\nCondiciones de inscripción:\n\n\n\nSocias EMCA y empresarios del Municipio: SUBVENCIONADO \n\n\n\nResto de colectivos o municipios: 90 €. \n\n\n\nNuevas socias: Puedes acceder inscribiéndote con la cuota anual de la asociación. \n\n\n\n\n¡Reserva tu plaza!\n\n\n\n\nNota importante: Este no es un ciclo de charlas independientes. Es un programa formativo continuo con una secuencia pedagógica real
URL:https://empresariascanariassureste.es/evento/sesion-9-9-de-la-ie-a-la-ia-programa-completo-un-recorrido-practico-para-transformar-tu-mentalidad-y-tu-negocio/
CATEGORIES:FORMACIÓN
ATTACH;FMTTYPE=image/jpeg:https://empresariascanariassureste.es/wp-content/uploads/Copia-de-IMPULSANDO-NEGOCIOS.jpg
END:VEVENT
END:VCALENDAR